BEGIN:VCALENDAR
VERSION:2.0
PRODID:icalendar-ruby
CALSCALE:GREGORIAN
METHOD:PUBLISH
BEGIN:VEVENT
DTSTAMP:20260423T212412Z
UID:10-1006963@freespiritworshipchurch.org
DTSTART:20261021T230000Z
DTEND:20261021T233000Z
CLASS:PUBLIC
CREATED:20260423T154054
DESCRIPTION:\n  \nFSWC Wednesday Prayer Announcement by Free Spirit Worship
  Church\nLink to Prayer Service Flyer: http://tinyurl.com/fswcprayerservic
 e\n 
LAST-MODIFIED:20260423T154054
LOCATION:821E Sunnyside Dr\, Virginia Beach\, VA\; Zoom
SUMMARY:Prayer & Bible Study
URL;VALUE=URI:https://freespiritworshipchurch.org/events/prayer-bible-study
 /2026-10-21
ATTACH;FILENAME=fotorieth-bible-1136784_1920.jpg;FMTTYPE=image/jpeg:https:/
 /dq5pwpg1q8ru0.cloudfront.net/2026/03/22/16/50/05/94323bf2-d4db-4389-9f46-
 d3ab8b113cde/fotorieth-bible-1136784_1920.jpg
END:VEVENT
END:VCALENDAR
